BEGIN:VCALENDAR
VERSION:2.0
PRODID:-//Dance Phix - ECPv6.15.12.2//NONSGML v1.0//EN
CALSCALE:GREGORIAN
METHOD:PUBLISH
X-WR-CALNAME:Dance Phix
X-ORIGINAL-URL:https://dancephix.com
X-WR-CALDESC:Events for Dance Phix
REFRESH-INTERVAL;VALUE=DURATION:PT1H
X-Robots-Tag:noindex
X-PUBLISHED-TTL:PT1H
BEGIN:VTIMEZONE
TZID:UTC
BEGIN:STANDARD
TZOFFSETFROM:+0000
TZOFFSETTO:+0000
TZNAME:UTC
DTSTART:20230101T000000
END:STANDARD
END:VTIMEZONE
BEGIN:VEVENT
DTSTART;TZID=UTC:20240114T150000
DTEND;TZID=UTC:20240114T150000
DTSTAMP:20260425T113122
CREATED:20240122T135116Z
LAST-MODIFIED:20240122T155512Z
UID:2119-1705244400-1705244400@dancephix.com
SUMMARY:Lucy Jane Adcock - Jazz
DESCRIPTION:
URL:https://dancephix.com/event/lucy-jane-adcock-jazz/
LOCATION:Base Dance Studios London\, 4 Tinworth St\, London\, 020 7587 1000\, SE11 5EJ
CATEGORIES:Broadway Jazz,Jazz,MT Jazz,Musical Theatre
ATTACH;FMTTYPE=image/webp:https://dancephix.com/wp-content/uploads/2024/01/Lucy-Jane-Adcock-1-1.webp
END:VEVENT
BEGIN:VEVENT
DTSTART;TZID=UTC:20240114T150000
DTEND;TZID=UTC:20240114T150000
DTSTAMP:20260425T113122
CREATED:20240122T135116Z
LAST-MODIFIED:20240122T155512Z
UID:2119-1705244400-1705244400@dancephix.com
SUMMARY:Lucy Jane Adcock - Jazz
DESCRIPTION:
URL:https://dancephix.com/event/lucy-jane-adcock-jazz/
LOCATION:Base Dance Studios London\, 4 Tinworth St\, London\, 020 7587 1000\, SE11 5EJ
CATEGORIES:Broadway Jazz,Jazz,MT Jazz,Musical Theatre
ATTACH;FMTTYPE=image/webp:https://dancephix.com/wp-content/uploads/2024/01/Lucy-Jane-Adcock-1-1.webp
END:VEVENT
BEGIN:VEVENT
DTSTART;TZID=UTC:20240114T150000
DTEND;TZID=UTC:20240114T150000
DTSTAMP:20260425T113122
CREATED:20240122T135116Z
LAST-MODIFIED:20240122T155512Z
UID:2119-1705244400-1705244400@dancephix.com
SUMMARY:Lucy Jane Adcock - Jazz
DESCRIPTION:
URL:https://dancephix.com/event/lucy-jane-adcock-jazz/
LOCATION:Base Dance Studios London\, 4 Tinworth St\, London\, 020 7587 1000\, SE11 5EJ
CATEGORIES:Broadway Jazz,Jazz,MT Jazz,Musical Theatre
ATTACH;FMTTYPE=image/webp:https://dancephix.com/wp-content/uploads/2024/01/Lucy-Jane-Adcock-1-1.webp
END:VEVENT
BEGIN:VEVENT
DTSTART;TZID=UTC:20240114T150000
DTEND;TZID=UTC:20240114T150000
DTSTAMP:20260425T113122
CREATED:20240122T135116Z
LAST-MODIFIED:20240122T155512Z
UID:2119-1705244400-1705244400@dancephix.com
SUMMARY:Lucy Jane Adcock - Jazz
DESCRIPTION:
URL:https://dancephix.com/event/lucy-jane-adcock-jazz/
LOCATION:Base Dance Studios London\, 4 Tinworth St\, London\, 020 7587 1000\, SE11 5EJ
CATEGORIES:Broadway Jazz,Jazz,MT Jazz,Musical Theatre
ATTACH;FMTTYPE=image/webp:https://dancephix.com/wp-content/uploads/2024/01/Lucy-Jane-Adcock-1-1.webp
END:VEVENT
BEGIN:VEVENT
DTSTART;TZID=UTC:20240114T150000
DTEND;TZID=UTC:20240114T150000
DTSTAMP:20260425T113122
CREATED:20240122T135116Z
LAST-MODIFIED:20240122T155512Z
UID:2119-1705244400-1705244400@dancephix.com
SUMMARY:Lucy Jane Adcock - Jazz
DESCRIPTION:
URL:https://dancephix.com/event/lucy-jane-adcock-jazz/
LOCATION:Base Dance Studios London\, 4 Tinworth St\, London\, 020 7587 1000\, SE11 5EJ
CATEGORIES:Broadway Jazz,Jazz,MT Jazz,Musical Theatre
ATTACH;FMTTYPE=image/webp:https://dancephix.com/wp-content/uploads/2024/01/Lucy-Jane-Adcock-1-1.webp
END:VEVENT
BEGIN:VEVENT
DTSTART;TZID=UTC:20240114T150000
DTEND;TZID=UTC:20240114T150000
DTSTAMP:20260425T113122
CREATED:20240122T135116Z
LAST-MODIFIED:20240122T155512Z
UID:2119-1705244400-1705244400@dancephix.com
SUMMARY:Lucy Jane Adcock - Jazz
DESCRIPTION:
URL:https://dancephix.com/event/lucy-jane-adcock-jazz/
LOCATION:Base Dance Studios London\, 4 Tinworth St\, London\, 020 7587 1000\, SE11 5EJ
CATEGORIES:Broadway Jazz,Jazz,MT Jazz,Musical Theatre
ATTACH;FMTTYPE=image/webp:https://dancephix.com/wp-content/uploads/2024/01/Lucy-Jane-Adcock-1-1.webp
END:VEVENT
BEGIN:VEVENT
DTSTART;TZID=UTC:20240114T150000
DTEND;TZID=UTC:20240114T150000
DTSTAMP:20260425T113122
CREATED:20240122T135116Z
LAST-MODIFIED:20240122T155512Z
UID:2119-1705244400-1705244400@dancephix.com
SUMMARY:Lucy Jane Adcock - Jazz
DESCRIPTION:
URL:https://dancephix.com/event/lucy-jane-adcock-jazz/
LOCATION:Base Dance Studios London\, 4 Tinworth St\, London\, 020 7587 1000\, SE11 5EJ
CATEGORIES:Broadway Jazz,Jazz,MT Jazz,Musical Theatre
ATTACH;FMTTYPE=image/webp:https://dancephix.com/wp-content/uploads/2024/01/Lucy-Jane-Adcock-1-1.webp
END:VEVENT
BEGIN:VEVENT
DTSTART;TZID=UTC:20240114T150000
DTEND;TZID=UTC:20240114T150000
DTSTAMP:20260425T113122
CREATED:20240122T135116Z
LAST-MODIFIED:20240122T155512Z
UID:2119-1705244400-1705244400@dancephix.com
SUMMARY:Lucy Jane Adcock - Jazz
DESCRIPTION:
URL:https://dancephix.com/event/lucy-jane-adcock-jazz/
LOCATION:Base Dance Studios London\, 4 Tinworth St\, London\, 020 7587 1000\, SE11 5EJ
CATEGORIES:Broadway Jazz,Jazz,MT Jazz,Musical Theatre
ATTACH;FMTTYPE=image/webp:https://dancephix.com/wp-content/uploads/2024/01/Lucy-Jane-Adcock-1-1.webp
END:VEVENT
BEGIN:VEVENT
DTSTART;TZID=UTC:20240114T150000
DTEND;TZID=UTC:20240114T150000
DTSTAMP:20260425T113122
CREATED:20240122T135116Z
LAST-MODIFIED:20240122T155512Z
UID:2119-1705244400-1705244400@dancephix.com
SUMMARY:Lucy Jane Adcock - Jazz
DESCRIPTION:
URL:https://dancephix.com/event/lucy-jane-adcock-jazz/
LOCATION:Base Dance Studios London\, 4 Tinworth St\, London\, 020 7587 1000\, SE11 5EJ
CATEGORIES:Broadway Jazz,Jazz,MT Jazz,Musical Theatre
ATTACH;FMTTYPE=image/webp:https://dancephix.com/wp-content/uploads/2024/01/Lucy-Jane-Adcock-1-1.webp
END:VEVENT
BEGIN:VEVENT
DTSTART;TZID=UTC:20240114T150000
DTEND;TZID=UTC:20240114T150000
DTSTAMP:20260425T113122
CREATED:20240122T135116Z
LAST-MODIFIED:20240122T155512Z
UID:2119-1705244400-1705244400@dancephix.com
SUMMARY:Lucy Jane Adcock - Jazz
DESCRIPTION:
URL:https://dancephix.com/event/lucy-jane-adcock-jazz/
LOCATION:Base Dance Studios London\, 4 Tinworth St\, London\, 020 7587 1000\, SE11 5EJ
CATEGORIES:Broadway Jazz,Jazz,MT Jazz,Musical Theatre
ATTACH;FMTTYPE=image/webp:https://dancephix.com/wp-content/uploads/2024/01/Lucy-Jane-Adcock-1-1.webp
END:VEVENT
BEGIN:VEVENT
DTSTART;TZID=UTC:20240114T150000
DTEND;TZID=UTC:20240114T150000
DTSTAMP:20260425T113122
CREATED:20240122T135116Z
LAST-MODIFIED:20240122T155512Z
UID:2119-1705244400-1705244400@dancephix.com
SUMMARY:Lucy Jane Adcock - Jazz
DESCRIPTION:
URL:https://dancephix.com/event/lucy-jane-adcock-jazz/
LOCATION:Base Dance Studios London\, 4 Tinworth St\, London\, 020 7587 1000\, SE11 5EJ
CATEGORIES:Broadway Jazz,Jazz,MT Jazz,Musical Theatre
ATTACH;FMTTYPE=image/webp:https://dancephix.com/wp-content/uploads/2024/01/Lucy-Jane-Adcock-1-1.webp
END:VEVENT
BEGIN:VEVENT
DTSTART;TZID=UTC:20240114T150000
DTEND;TZID=UTC:20240114T150000
DTSTAMP:20260425T113122
CREATED:20240122T135116Z
LAST-MODIFIED:20240122T155512Z
UID:2119-1705244400-1705244400@dancephix.com
SUMMARY:Lucy Jane Adcock - Jazz
DESCRIPTION:
URL:https://dancephix.com/event/lucy-jane-adcock-jazz/
LOCATION:Base Dance Studios London\, 4 Tinworth St\, London\, 020 7587 1000\, SE11 5EJ
CATEGORIES:Broadway Jazz,Jazz,MT Jazz,Musical Theatre
ATTACH;FMTTYPE=image/webp:https://dancephix.com/wp-content/uploads/2024/01/Lucy-Jane-Adcock-1-1.webp
END:VEVENT
BEGIN:VEVENT
DTSTART;TZID=UTC:20240114T150000
DTEND;TZID=UTC:20240114T150000
DTSTAMP:20260425T113122
CREATED:20240122T135116Z
LAST-MODIFIED:20240122T155512Z
UID:2119-1705244400-1705244400@dancephix.com
SUMMARY:Lucy Jane Adcock - Jazz
DESCRIPTION:
URL:https://dancephix.com/event/lucy-jane-adcock-jazz/
LOCATION:Base Dance Studios London\, 4 Tinworth St\, London\, 020 7587 1000\, SE11 5EJ
CATEGORIES:Broadway Jazz,Jazz,MT Jazz,Musical Theatre
ATTACH;FMTTYPE=image/webp:https://dancephix.com/wp-content/uploads/2024/01/Lucy-Jane-Adcock-1-1.webp
END:VEVENT
BEGIN:VEVENT
DTSTART;TZID=UTC:20240114T150000
DTEND;TZID=UTC:20240114T150000
DTSTAMP:20260425T113122
CREATED:20240122T135116Z
LAST-MODIFIED:20240122T155512Z
UID:2119-1705244400-1705244400@dancephix.com
SUMMARY:Lucy Jane Adcock - Jazz
DESCRIPTION:
URL:https://dancephix.com/event/lucy-jane-adcock-jazz/
LOCATION:Base Dance Studios London\, 4 Tinworth St\, London\, 020 7587 1000\, SE11 5EJ
CATEGORIES:Broadway Jazz,Jazz,MT Jazz,Musical Theatre
ATTACH;FMTTYPE=image/webp:https://dancephix.com/wp-content/uploads/2024/01/Lucy-Jane-Adcock-1-1.webp
END:VEVENT
BEGIN:VEVENT
DTSTART;TZID=UTC:20240114T150000
DTEND;TZID=UTC:20240114T150000
DTSTAMP:20260425T113122
CREATED:20240122T135116Z
LAST-MODIFIED:20240122T155512Z
UID:2119-1705244400-1705244400@dancephix.com
SUMMARY:Lucy Jane Adcock - Jazz
DESCRIPTION:
URL:https://dancephix.com/event/lucy-jane-adcock-jazz/
LOCATION:Base Dance Studios London\, 4 Tinworth St\, London\, 020 7587 1000\, SE11 5EJ
CATEGORIES:Broadway Jazz,Jazz,MT Jazz,Musical Theatre
ATTACH;FMTTYPE=image/webp:https://dancephix.com/wp-content/uploads/2024/01/Lucy-Jane-Adcock-1-1.webp
END:VEVENT
BEGIN:VEVENT
DTSTART;TZID=UTC:20240114T150000
DTEND;TZID=UTC:20240114T150000
DTSTAMP:20260425T113122
CREATED:20240122T135116Z
LAST-MODIFIED:20240122T155512Z
UID:2119-1705244400-1705244400@dancephix.com
SUMMARY:Lucy Jane Adcock - Jazz
DESCRIPTION:
URL:https://dancephix.com/event/lucy-jane-adcock-jazz/
LOCATION:Base Dance Studios London\, 4 Tinworth St\, London\, 020 7587 1000\, SE11 5EJ
CATEGORIES:Broadway Jazz,Jazz,MT Jazz,Musical Theatre
ATTACH;FMTTYPE=image/webp:https://dancephix.com/wp-content/uploads/2024/01/Lucy-Jane-Adcock-1-1.webp
END:VEVENT
BEGIN:VEVENT
DTSTART;TZID=UTC:20240114T150000
DTEND;TZID=UTC:20240114T150000
DTSTAMP:20260425T113122
CREATED:20240122T135116Z
LAST-MODIFIED:20240122T155512Z
UID:2119-1705244400-1705244400@dancephix.com
SUMMARY:Lucy Jane Adcock - Jazz
DESCRIPTION:
URL:https://dancephix.com/event/lucy-jane-adcock-jazz/
LOCATION:Base Dance Studios London\, 4 Tinworth St\, London\, 020 7587 1000\, SE11 5EJ
CATEGORIES:Broadway Jazz,Jazz,MT Jazz,Musical Theatre
ATTACH;FMTTYPE=image/webp:https://dancephix.com/wp-content/uploads/2024/01/Lucy-Jane-Adcock-1-1.webp
END:VEVENT
BEGIN:VEVENT
DTSTART;TZID=UTC:20240114T150000
DTEND;TZID=UTC:20240114T150000
DTSTAMP:20260425T113122
CREATED:20240122T135116Z
LAST-MODIFIED:20240122T155512Z
UID:2119-1705244400-1705244400@dancephix.com
SUMMARY:Lucy Jane Adcock - Jazz
DESCRIPTION:
URL:https://dancephix.com/event/lucy-jane-adcock-jazz/
LOCATION:Base Dance Studios London\, 4 Tinworth St\, London\, 020 7587 1000\, SE11 5EJ
CATEGORIES:Broadway Jazz,Jazz,MT Jazz,Musical Theatre
ATTACH;FMTTYPE=image/webp:https://dancephix.com/wp-content/uploads/2024/01/Lucy-Jane-Adcock-1-1.webp
END:VEVENT
BEGIN:VEVENT
DTSTART;TZID=UTC:20240114T150000
DTEND;TZID=UTC:20240114T150000
DTSTAMP:20260425T113122
CREATED:20240122T135116Z
LAST-MODIFIED:20240122T155512Z
UID:2119-1705244400-1705244400@dancephix.com
SUMMARY:Lucy Jane Adcock - Jazz
DESCRIPTION:
URL:https://dancephix.com/event/lucy-jane-adcock-jazz/
LOCATION:Base Dance Studios London\, 4 Tinworth St\, London\, 020 7587 1000\, SE11 5EJ
CATEGORIES:Broadway Jazz,Jazz,MT Jazz,Musical Theatre
ATTACH;FMTTYPE=image/webp:https://dancephix.com/wp-content/uploads/2024/01/Lucy-Jane-Adcock-1-1.webp
END:VEVENT
BEGIN:VEVENT
DTSTART;TZID=UTC:20240114T150000
DTEND;TZID=UTC:20240114T150000
DTSTAMP:20260425T113122
CREATED:20240122T135116Z
LAST-MODIFIED:20240122T155512Z
UID:2119-1705244400-1705244400@dancephix.com
SUMMARY:Lucy Jane Adcock - Jazz
DESCRIPTION:
URL:https://dancephix.com/event/lucy-jane-adcock-jazz/
LOCATION:Base Dance Studios London\, 4 Tinworth St\, London\, 020 7587 1000\, SE11 5EJ
CATEGORIES:Broadway Jazz,Jazz,MT Jazz,Musical Theatre
ATTACH;FMTTYPE=image/webp:https://dancephix.com/wp-content/uploads/2024/01/Lucy-Jane-Adcock-1-1.webp
END:VEVENT
BEGIN:VEVENT
DTSTART;TZID=UTC:20240114T150000
DTEND;TZID=UTC:20240114T150000
DTSTAMP:20260425T113122
CREATED:20240122T135116Z
LAST-MODIFIED:20240122T155512Z
UID:2119-1705244400-1705244400@dancephix.com
SUMMARY:Lucy Jane Adcock - Jazz
DESCRIPTION:
URL:https://dancephix.com/event/lucy-jane-adcock-jazz/
LOCATION:Base Dance Studios London\, 4 Tinworth St\, London\, 020 7587 1000\, SE11 5EJ
CATEGORIES:Broadway Jazz,Jazz,MT Jazz,Musical Theatre
ATTACH;FMTTYPE=image/webp:https://dancephix.com/wp-content/uploads/2024/01/Lucy-Jane-Adcock-1-1.webp
END:VEVENT
BEGIN:VEVENT
DTSTART;TZID=UTC:20240114T150000
DTEND;TZID=UTC:20240114T150000
DTSTAMP:20260425T113122
CREATED:20240122T135116Z
LAST-MODIFIED:20240122T155512Z
UID:2119-1705244400-1705244400@dancephix.com
SUMMARY:Lucy Jane Adcock - Jazz
DESCRIPTION:
URL:https://dancephix.com/event/lucy-jane-adcock-jazz/
LOCATION:Base Dance Studios London\, 4 Tinworth St\, London\, 020 7587 1000\, SE11 5EJ
CATEGORIES:Broadway Jazz,Jazz,MT Jazz,Musical Theatre
ATTACH;FMTTYPE=image/webp:https://dancephix.com/wp-content/uploads/2024/01/Lucy-Jane-Adcock-1-1.webp
END:VEVENT
BEGIN:VEVENT
DTSTART;TZID=UTC:20240114T150000
DTEND;TZID=UTC:20240114T150000
DTSTAMP:20260425T113122
CREATED:20240122T135116Z
LAST-MODIFIED:20240122T155512Z
UID:2119-1705244400-1705244400@dancephix.com
SUMMARY:Lucy Jane Adcock - Jazz
DESCRIPTION:
URL:https://dancephix.com/event/lucy-jane-adcock-jazz/
LOCATION:Base Dance Studios London\, 4 Tinworth St\, London\, 020 7587 1000\, SE11 5EJ
CATEGORIES:Broadway Jazz,Jazz,MT Jazz,Musical Theatre
ATTACH;FMTTYPE=image/webp:https://dancephix.com/wp-content/uploads/2024/01/Lucy-Jane-Adcock-1-1.webp
END:VEVENT
BEGIN:VEVENT
DTSTART;TZID=UTC:20240114T150000
DTEND;TZID=UTC:20240114T150000
DTSTAMP:20260425T113122
CREATED:20240122T135116Z
LAST-MODIFIED:20240122T155512Z
UID:2119-1705244400-1705244400@dancephix.com
SUMMARY:Lucy Jane Adcock - Jazz
DESCRIPTION:
URL:https://dancephix.com/event/lucy-jane-adcock-jazz/
LOCATION:Base Dance Studios London\, 4 Tinworth St\, London\, 020 7587 1000\, SE11 5EJ
CATEGORIES:Broadway Jazz,Jazz,MT Jazz,Musical Theatre
ATTACH;FMTTYPE=image/webp:https://dancephix.com/wp-content/uploads/2024/01/Lucy-Jane-Adcock-1-1.webp
END:VEVENT
BEGIN:VEVENT
DTSTART;TZID=UTC:20240114T150000
DTEND;TZID=UTC:20240114T150000
DTSTAMP:20260425T113122
CREATED:20240122T135116Z
LAST-MODIFIED:20240122T155512Z
UID:2119-1705244400-1705244400@dancephix.com
SUMMARY:Lucy Jane Adcock - Jazz
DESCRIPTION:
URL:https://dancephix.com/event/lucy-jane-adcock-jazz/
LOCATION:Base Dance Studios London\, 4 Tinworth St\, London\, 020 7587 1000\, SE11 5EJ
CATEGORIES:Broadway Jazz,Jazz,MT Jazz,Musical Theatre
ATTACH;FMTTYPE=image/webp:https://dancephix.com/wp-content/uploads/2024/01/Lucy-Jane-Adcock-1-1.webp
END:VEVENT
BEGIN:VEVENT
DTSTART;TZID=UTC:20240114T150000
DTEND;TZID=UTC:20240114T150000
DTSTAMP:20260425T113122
CREATED:20240122T135116Z
LAST-MODIFIED:20240122T155512Z
UID:2119-1705244400-1705244400@dancephix.com
SUMMARY:Lucy Jane Adcock - Jazz
DESCRIPTION:
URL:https://dancephix.com/event/lucy-jane-adcock-jazz/
LOCATION:Base Dance Studios London\, 4 Tinworth St\, London\, 020 7587 1000\, SE11 5EJ
CATEGORIES:Broadway Jazz,Jazz,MT Jazz,Musical Theatre
ATTACH;FMTTYPE=image/webp:https://dancephix.com/wp-content/uploads/2024/01/Lucy-Jane-Adcock-1-1.webp
END:VEVENT
BEGIN:VEVENT
DTSTART;TZID=UTC:20240114T150000
DTEND;TZID=UTC:20240114T150000
DTSTAMP:20260425T113122
CREATED:20240122T135116Z
LAST-MODIFIED:20240122T155512Z
UID:2119-1705244400-1705244400@dancephix.com
SUMMARY:Lucy Jane Adcock - Jazz
DESCRIPTION:
URL:https://dancephix.com/event/lucy-jane-adcock-jazz/
LOCATION:Base Dance Studios London\, 4 Tinworth St\, London\, 020 7587 1000\, SE11 5EJ
CATEGORIES:Broadway Jazz,Jazz,MT Jazz,Musical Theatre
ATTACH;FMTTYPE=image/webp:https://dancephix.com/wp-content/uploads/2024/01/Lucy-Jane-Adcock-1-1.webp
END:VEVENT
BEGIN:VEVENT
DTSTART;TZID=UTC:20240114T150000
DTEND;TZID=UTC:20240114T150000
DTSTAMP:20260425T113122
CREATED:20240122T135116Z
LAST-MODIFIED:20240122T155512Z
UID:2119-1705244400-1705244400@dancephix.com
SUMMARY:Lucy Jane Adcock - Jazz
DESCRIPTION:
URL:https://dancephix.com/event/lucy-jane-adcock-jazz/
LOCATION:Base Dance Studios London\, 4 Tinworth St\, London\, 020 7587 1000\, SE11 5EJ
CATEGORIES:Broadway Jazz,Jazz,MT Jazz,Musical Theatre
ATTACH;FMTTYPE=image/webp:https://dancephix.com/wp-content/uploads/2024/01/Lucy-Jane-Adcock-1-1.webp
END:VEVENT
BEGIN:VEVENT
DTSTART;TZID=UTC:20240114T150000
DTEND;TZID=UTC:20240114T150000
DTSTAMP:20260425T113122
CREATED:20240122T135116Z
LAST-MODIFIED:20240122T155512Z
UID:2119-1705244400-1705244400@dancephix.com
SUMMARY:Lucy Jane Adcock - Jazz
DESCRIPTION:
URL:https://dancephix.com/event/lucy-jane-adcock-jazz/
LOCATION:Base Dance Studios London\, 4 Tinworth St\, London\, 020 7587 1000\, SE11 5EJ
CATEGORIES:Broadway Jazz,Jazz,MT Jazz,Musical Theatre
ATTACH;FMTTYPE=image/webp:https://dancephix.com/wp-content/uploads/2024/01/Lucy-Jane-Adcock-1-1.webp
END:VEVENT
BEGIN:VEVENT
DTSTART;TZID=UTC:20240114T150000
DTEND;TZID=UTC:20240114T150000
DTSTAMP:20260425T113122
CREATED:20240122T135116Z
LAST-MODIFIED:20240122T155512Z
UID:2119-1705244400-1705244400@dancephix.com
SUMMARY:Lucy Jane Adcock - Jazz
DESCRIPTION:
URL:https://dancephix.com/event/lucy-jane-adcock-jazz/
LOCATION:Base Dance Studios London\, 4 Tinworth St\, London\, 020 7587 1000\, SE11 5EJ
CATEGORIES:Broadway Jazz,Jazz,MT Jazz,Musical Theatre
ATTACH;FMTTYPE=image/webp:https://dancephix.com/wp-content/uploads/2024/01/Lucy-Jane-Adcock-1-1.webp
END:VEVENT
END:VCALENDAR